BEGIN:VCALENDAR
VERSION:2.0
PRODID:-//Elite Gladiators Wrestling - ECPv6.15.20//NONSGML v1.0//EN
CALSCALE:GREGORIAN
METHOD:PUBLISH
X-ORIGINAL-URL:https://new.elitegladiatorswrestling.site
X-WR-CALDESC:Events for Elite Gladiators Wrestling
REFRESH-INTERVAL;VALUE=DURATION:PT1H
X-Robots-Tag:noindex
X-PUBLISHED-TTL:PT1H
BEGIN:VTIMEZONE
TZID:UTC
BEGIN:STANDARD
TZOFFSETFROM:+0000
TZOFFSETTO:+0000
TZNAME:UTC
DTSTART:20250101T000000
END:STANDARD
END:VTIMEZONE
BEGIN:VEVENT
DTSTART;TZID=UTC:20260506T080000
DTEND;TZID=UTC:20260506T170000
DTSTAMP:20260422T194937
CREATED:20260421T193400Z
LAST-MODIFIED:20260422T180314Z
UID:160-1778054400-1778086800@new.elitegladiatorswrestling.site
SUMMARY:WWE STARS
DESCRIPTION:MASCARITA SAGRADA vs MICROMAN\nESPECTRITO vs ELGUAPITO\n544 Sawdust Rd\, Spring\, TX 77380
URL:https://new.elitegladiatorswrestling.site/event/wwe-stars/
ATTACH;FMTTYPE=image/jpeg:https://new.elitegladiatorswrestling.site/wp-content/uploads/2026/04/g1.jpeg
END:VEVENT
END:VCALENDAR